BEGIN:VCALENDAR
VERSION:2.0
PRODID:-//BFO-Toronto - ECPv6.15.11//NONSGML v1.0//EN
CALSCALE:GREGORIAN
METHOD:PUBLISH
X-WR-CALNAME:BFO-Toronto
X-ORIGINAL-URL:https://bfotoronto.ca
X-WR-CALDESC:Events for BFO-Toronto
REFRESH-INTERVAL;VALUE=DURATION:PT1H
X-Robots-Tag:noindex
X-PUBLISHED-TTL:PT1H
BEGIN:VTIMEZONE
TZID:America/New_York
BEGIN:DAYLIGHT
TZOFFSETFROM:-0500
TZOFFSETTO:-0400
TZNAME:EDT
DTSTART:20250309T070000
END:DAYLIGHT
BEGIN:STANDARD
TZOFFSETFROM:-0400
TZOFFSETTO:-0500
TZNAME:EST
DTSTART:20251102T060000
END:STANDARD
BEGIN:DAYLIGHT
TZOFFSETFROM:-0500
TZOFFSETTO:-0400
TZNAME:EDT
DTSTART:20260308T070000
END:DAYLIGHT
BEGIN:STANDARD
TZOFFSETFROM:-0400
TZOFFSETTO:-0500
TZNAME:EST
DTSTART:20261101T060000
END:STANDARD
BEGIN:DAYLIGHT
TZOFFSETFROM:-0500
TZOFFSETTO:-0400
TZNAME:EDT
DTSTART:20270314T070000
END:DAYLIGHT
BEGIN:STANDARD
TZOFFSETFROM:-0400
TZOFFSETTO:-0500
TZNAME:EST
DTSTART:20271107T060000
END:STANDARD
END:VTIMEZONE
BEGIN:VTIMEZONE
TZID:America/Toronto
BEGIN:DAYLIGHT
TZOFFSETFROM:-0500
TZOFFSETTO:-0400
TZNAME:EDT
DTSTART:20220313T070000
END:DAYLIGHT
BEGIN:STANDARD
TZOFFSETFROM:-0400
TZOFFSETTO:-0500
TZNAME:EST
DTSTART:20221106T060000
END:STANDARD
BEGIN:DAYLIGHT
TZOFFSETFROM:-0500
TZOFFSETTO:-0400
TZNAME:EDT
DTSTART:20230312T070000
END:DAYLIGHT
BEGIN:STANDARD
TZOFFSETFROM:-0400
TZOFFSETTO:-0500
TZNAME:EST
DTSTART:20231105T060000
END:STANDARD
BEGIN:DAYLIGHT
TZOFFSETFROM:-0500
TZOFFSETTO:-0400
TZNAME:EDT
DTSTART:20240310T070000
END:DAYLIGHT
BEGIN:STANDARD
TZOFFSETFROM:-0400
TZOFFSETTO:-0500
TZNAME:EST
DTSTART:20241103T060000
END:STANDARD
END:VTIMEZONE
BEGIN:VEVENT
DTSTART;VALUE=DATE:20260217
DTEND;VALUE=DATE:20260228
DTSTAMP:20260421T060359
CREATED:20260213T221429Z
LAST-MODIFIED:20260218T154416Z
UID:6220-1771286400-1772236799@bfotoronto.ca
SUMMARY:Bids of Hope
DESCRIPTION:Bids of Hope\nVirtual Silent Auction | February 17 to 27\, 2026 \nWe are proud to introduce Bids of Hope\, a virtual silent auction created in partnership with Bereaved Families of Ontario – Toronto. \nFrom February 17 to 27\, 2026\, our community will come together online to bid on thoughtfully donated items\, unique experiences\, and local offerings\, all in support of free\, peer-based grief support programs. \nWhy It Matters\nAt Bereaved Families of Ontario – Toronto\, we believe that no one should have to navigate grief alone or face financial barriers to receiving support.  Every dollar raised through Bids of Hope helps ensure our programs remain accessible\, compassionate\, and free of charge for individuals and families experiencing the loss of someone significant. \nHow You Can Get Involved\nBecome a sponsor and align your business with community care \nBid and share the auction with your network \nHelp spread the word on social media \nThe auction site will be launching soon!   In the meantime\, we welcoming sponsors who want to make a meaningful impact. \nTogether\, We Create Hope\nBids of Hope is more than a fundraiser…it’s a community coming together to ensure grief support remains available to those who need it most! \nIf you are interested in donating\, sponsoring\, or learning more\, please contact us at info@bfotoronto.ca \n……………………….. \nCLICK HERE TO START YOUR BIDS! \n……………………….. \nCheck out some of the great products and services available for bidding – MORE TO COME! \n\n		\n		\n			\n				\n			\n				\n				Foreign Affair Winery – 2 Bottles Wine & Complimentary Tasting Card\n				\n			\n				\n			\n				\n				Into the Blu – One Blu Room Session\n				\n			\n				\n			\n				\n				Dignity Memorial – 4 Gold Centre Ice Tickets\n				\n			\n				\n			\n				\n				HUB Climbing – One Full Day Pass\n				\n			\n				\n			\n				\n				Downtown Sap & Relaxation – 90 Minute Ayurvedic Massage\n				\n			\n				\n			\n				\n				Holistic Eleanor – 1 Hour Holistic Massage Session\n				\n			\n				\n			\n				\n				Be Yopa Wellness – One Month Unlimited\n				\n			\n				\n			\n				\n				Body & Soul – Shining Bright Spa Package\n				\n			\n				\n			\n				\n				Downtown Winery – 3 Bottles of Wine
URL:https://bfotoronto.ca/event/bids-of-hope/
CATEGORIES:Fundraiser
END:VEVENT
BEGIN:VEVENT
DTSTART;TZID=America/Toronto:20230930T100000
DTEND;TZID=America/Toronto:20230930T130000
DTSTAMP:20260421T060359
CREATED:20230725T192213Z
LAST-MODIFIED:20230727T172317Z
UID:4844-1696068000-1696078800@bfotoronto.ca
SUMMARY:2023 5K Walk to Remember
DESCRIPTION:2023 5K Walk to Remember – Hop\, Skip\, Run\, Remember!\nJoin us for the 4th annual 5k Walk to Remember in support of BFO Toronto by registering to participate in this beloved event. On Saturday\, September 30th from 10am-1pm we will be walking\, running\, scootering and dancing at Lakeside Park in Mississauga (2268 Lakeshore Rd West) in support of BFO Toronto in partnership with BFO Halton Peel. \nWhat is the 5K Walk to Remember Memorial?\nEach year we come together to celebrate and commemorate loved ones who are no longer with us by fundraising in their honour. Our goal is to raise $50\,000 to support our programs that give comfort to grieving Torontonians through peer to peer support groups. Gather your friends and family to participate in this meaningful event! \nWe will be partnering with BFO-Halton Peel to organize this event\, proceeds from teams registered on our page will be dedicated to BFO-Toronto: \nhttps://bfotoronto.ca/bfo-toronto-5k-memorial/ \nDONATE NOW |  REGISTER
URL:https://bfotoronto.ca/event/5k-walk-to-remember/
LOCATION:Lakeside Park\, 2268 Lakeshore Rd West\, Mississauga\, Canada
CATEGORIES:Family Event,Fundraiser
ATTACH;FMTTYPE=image/png:https://bfotoronto.ca/wp-content/uploads/2023/07/Social-Post-WTR-BFOToronto.png
END:VEVENT
END:VCALENDAR