BEGIN:VCALENDAR
VERSION:2.0
PRODID:-//BFO-Toronto - ECPv6.15.11//NONSGML v1.0//EN
CALSCALE:GREGORIAN
METHOD:PUBLISH
X-ORIGINAL-URL:https://bfotoronto.ca
X-WR-CALDESC:Events for BFO-Toronto
REFRESH-INTERVAL;VALUE=DURATION:PT1H
X-Robots-Tag:noindex
X-PUBLISHED-TTL:PT1H
BEGIN:VTIMEZONE
TZID:America/New_York
BEGIN:DAYLIGHT
TZOFFSETFROM:-0500
TZOFFSETTO:-0400
TZNAME:EDT
DTSTART:20230312T070000
END:DAYLIGHT
BEGIN:STANDARD
TZOFFSETFROM:-0400
TZOFFSETTO:-0500
TZNAME:EST
DTSTART:20231105T060000
END:STANDARD
BEGIN:DAYLIGHT
TZOFFSETFROM:-0500
TZOFFSETTO:-0400
TZNAME:EDT
DTSTART:20240310T070000
END:DAYLIGHT
BEGIN:STANDARD
TZOFFSETFROM:-0400
TZOFFSETTO:-0500
TZNAME:EST
DTSTART:20241103T060000
END:STANDARD
BEGIN:DAYLIGHT
TZOFFSETFROM:-0500
TZOFFSETTO:-0400
TZNAME:EDT
DTSTART:20250309T070000
END:DAYLIGHT
BEGIN:STANDARD
TZOFFSETFROM:-0400
TZOFFSETTO:-0500
TZNAME:EST
DTSTART:20251102T060000
END:STANDARD
END:VTIMEZONE
BEGIN:VEVENT
DTSTART;TZID=America/New_York:20240501T183000
DTEND;TZID=America/New_York:20240501T203000
DTSTAMP:20260421T060317
CREATED:20240418T220321Z
LAST-MODIFIED:20240418T220321Z
UID:5305-1714588200-1714595400@bfotoronto.ca
SUMMARY:Family and Friend Loss Drop-In Support Group
DESCRIPTION:Bereaved Families of Ontario-Toronto invites you to join our virtual Family & Friends Drop-In group on Wednesday\, May 1st\, from 6:30PM to 8:30PM EST. This gathering provides a supportive environment for sharing whatever is on your heart at this moment in your grief journey. ❤️ \nRegistration operates on a first-come\, first-served basis.\nZoom link will be sent closer to the date of the group. \nGroup Details: \nDate: May 1\, 2024\nTime: 6:30 PM – 8:30 PM EST \nClick Here to Register.  \nFor more information or if you have any questions\, please contact ekasakevich@bfotoronto.ca.
URL:https://bfotoronto.ca/event/family-and-friend-loss-drop-in-support-group/
END:VEVENT
BEGIN:VEVENT
DTSTART;TZID=America/New_York:20240513T183000
DTEND;TZID=America/New_York:20240513T203000
DTSTAMP:20260421T060317
CREATED:20240418T220205Z
LAST-MODIFIED:20240418T220343Z
UID:5303-1715625000-1715632200@bfotoronto.ca
SUMMARY:Mother's Day Drop-In Support Group
DESCRIPTION:Bereaved Families of Ontario-Toronto invites you to join our virtual Mother’s Day Drop-In Support Group on May 13\, 2024\, from 6:30PM to 8:30PM EST. This gathering aims to provides a supportive environment for the those whose Mother’s or Mother figures have passed on Mother’s Day. ❤️ \nRegistration operates on a first-come\, first-served basis.\nZoom link will be sent closer to the date of the group. \nGroup Details: \nDate: May 1st\nTime: 6:30 PM – 8:30 PM EST \nClick Here to Register. \nFor more information or if you have any questions\, please contact ekasakevich@bfotoronto.ca.
URL:https://bfotoronto.ca/event/mothers-day/
END:VEVENT
BEGIN:VEVENT
DTSTART;VALUE=DATE:20240514
DTEND;VALUE=DATE:20240515
DTSTAMP:20260421T060317
CREATED:20240405T023810Z
LAST-MODIFIED:20240410T023940Z
UID:5287-1715644800-1715731199@bfotoronto.ca
SUMMARY:Intro to Mindfulness Meditation
DESCRIPTION:Bereaved Families of Ontario-Toronto invites you to join our virtual Intro to Mindfulness Meditation: Cultivating Peace and Ease during Difficult Times 4-Week Program\, hosted by one of our lovely volunteers\, Grace! 🤍 Each session will be online from 6:30-8:00pm\, and the topics will include: 🧘‍♂️ Benefits of Mindfulness and Meditation \n☀️ Sitting and Walking Meditation \n🌱 Mindfulness of Body\, Thoughts and Emotions \n🫂 Self Compassion. \nSessions will take place on May 14th\, 21st\, 28th\, and June 4th. We hope to see you there! \nZoom links will be sent closer to the dates of the groups. \nGroup Details: \nDates: May 14th\, May 21st\, May 28th\, and June 4th\nTime: 6:30 PM – 8:00 PM EST\nFacilitator: Grace Duong \nPlease click here to register. \nFor more information or if you have any questions\, please contact ekasakevich@bfotoronto.ca.
URL:https://bfotoronto.ca/event/intro-to-mindfulness-meditation/
END:VEVENT
END:VCALENDAR